BEGIN:VCALENDAR
VERSION:2.0
PRODID:-//Eastside Kids - ECPv6.15.20//NONSGML v1.0//EN
CALSCALE:GREGORIAN
METHOD:PUBLISH
X-ORIGINAL-URL:https://eastsidekids.org
X-WR-CALDESC:Events for Eastside Kids
REFRESH-INTERVAL;VALUE=DURATION:PT1H
X-Robots-Tag:noindex
X-PUBLISHED-TTL:PT1H
BEGIN:VTIMEZONE
TZID:America/New_York
BEGIN:DAYLIGHT
TZOFFSETFROM:-0500
TZOFFSETTO:-0400
TZNAME:EDT
DTSTART:20240310T070000
END:DAYLIGHT
BEGIN:STANDARD
TZOFFSETFROM:-0400
TZOFFSETTO:-0500
TZNAME:EST
DTSTART:20241103T060000
END:STANDARD
BEGIN:DAYLIGHT
TZOFFSETFROM:-0500
TZOFFSETTO:-0400
TZNAME:EDT
DTSTART:20250309T070000
END:DAYLIGHT
BEGIN:STANDARD
TZOFFSETFROM:-0400
TZOFFSETTO:-0500
TZNAME:EST
DTSTART:20251102T060000
END:STANDARD
BEGIN:DAYLIGHT
TZOFFSETFROM:-0500
TZOFFSETTO:-0400
TZNAME:EDT
DTSTART:20260308T070000
END:DAYLIGHT
BEGIN:STANDARD
TZOFFSETFROM:-0400
TZOFFSETTO:-0500
TZNAME:EST
DTSTART:20261101T060000
END:STANDARD
END:VTIMEZONE
BEGIN:VEVENT
DTSTART;TZID=America/New_York:20250216T130000
DTEND;TZID=America/New_York:20250216T160000
DTSTAMP:20260421T081759
CREATED:20250202T193016Z
LAST-MODIFIED:20250202T193029Z
UID:10004272-1739710800-1739721600@eastsidekids.org
SUMMARY:Daddy-Daughter Dance @ Barrister Gardens
DESCRIPTION:Dads and Daughters are invited to dance at Barrister Gardens at our annual Daddy-Daughter Dance! \nEnjoy a buffet dinner\, ice cream bar\, DJ and dancing\, photo booth\, gifts and raffles together for a special occasion! \nTickets can be purchased in person at the Civic Arena (20000 Stephens Rd)\, open daily from 8:30 a.m. – 9 p.m. Please call 586-445-5350 for more information. \nTickets are $35 for residents\, plus $30 for additional child. Non-residents are $40 per person with $35 for additional child. \nImage Source
URL:https://eastsidekids.org/event/daddy-daughter-dance/
LOCATION:Barrister Gardens\, 24225 Harper Avenue\, St Clair Shores\, MI\, 48080
CATEGORIES:Special Events
ATTACH;FMTTYPE=image/jpeg:https://eastsidekids.org/wp-content/uploads/2025/02/stclairshoresdaddydaughtedance-e1738524307542.jpg
END:VEVENT
BEGIN:VEVENT
DTSTART;TZID=America/New_York:20250223T130000
DTEND;TZID=America/New_York:20250223T153000
DTSTAMP:20260421T081759
CREATED:20250202T193618Z
LAST-MODIFIED:20250202T193618Z
UID:10004273-1740315600-1740324600@eastsidekids.org
SUMMARY:Daddy-Daughter Dance @ Fern Hill Golf Club
DESCRIPTION:Daddy Daughter Dance\n\n\n\n\n\n\n\nFor daughters age 16 and under!\nJoin us for a day of fun and memories that you will not forget! Couples will enjoy their meal\, dessert\, dancing and activities. Dads and daughters should wear dress clothes and dancin’ shoes as the DJ will keep everyone moving on the dance floor! \nA total of 10 people can sit at each table In order to sit with another family you must register together or submit forms with payment\, by fax or mail within the same envelope. Pre-registration is required and this event will sell out – register as soon as possible. We look forward to seeing you there!  Please note-seating requests received after February 6 not guaranteed. \nPre-Registration Required\nOnline registration will be available for this program. \nEvent Details\n\nLocation:\n\nFern Hill Golf Club-17600 Clinton River Road\nSunday\, February 23\, 2025\n1:00 – 3:30pm\nResident $25.00 / Non-resident $32.50\n\n\n\n\n\n\n\n\n\n\nImage Source
URL:https://eastsidekids.org/event/daddy-daughter-dance-fern-hill-golf-club/
LOCATION:Fern Hill Golf Club\, 17600 Clinton River Road\, Clinton Township\, MI\, 48038
CATEGORIES:Special Events
ATTACH;FMTTYPE=image/jpeg:https://eastsidekids.org/wp-content/uploads/2025/02/ClintonTownshipParksandRecDaddyDaughterDanceFernHillGolfClub-e1738524956653.jpg
END:VEVENT
BEGIN:VEVENT
DTSTART;TZID=America/New_York:20250228T183000
DTEND;TZID=America/New_York:20250228T203000
DTSTAMP:20260421T081759
CREATED:20250202T194039Z
LAST-MODIFIED:20250202T194039Z
UID:10004274-1740767400-1740774600@eastsidekids.org
SUMMARY:Ike's Daddy Daughter Dance—A Beary Good Time @ Ike's Restaurant
DESCRIPTION:Kid-Friendly Buffet served at 6:30PM \nChicken Marsala\, Potatoes\, Salad\, Mac & Cheese\, Chicken Tneders\, Fries and Cupcakes. \nDJ Music\, Dancing & Photo Booth \nBuild-a-bear station with Build-A-Buddy (Make a Friend) *Additional fee.
URL:https://eastsidekids.org/event/ikes-daddy-daughter-dance-a-beary-good-time-ikes-restaurant/
LOCATION:Ike’s Restaurant\, 38550 Van Dyke Avenue\, Sterling Heights\, Michigan\, 48312
CATEGORIES:Special Events
ATTACH;FMTTYPE=image/jpeg:https://eastsidekids.org/wp-content/uploads/2025/02/ikesdaddydaughterdanceabearygoodtime-e1738525218278.jpg
END:VEVENT
END:VCALENDAR