BEGIN:VCALENDAR
VERSION:2.0
PRODID:-//Eastside Kids - ECPv6.15.20//NONSGML v1.0//EN
CALSCALE:GREGORIAN
METHOD:PUBLISH
X-WR-CALNAME:Eastside Kids
X-ORIGINAL-URL:https://eastsidekids.org
X-WR-CALDESC:Events for Eastside Kids
REFRESH-INTERVAL;VALUE=DURATION:PT1H
X-Robots-Tag:noindex
X-PUBLISHED-TTL:PT1H
BEGIN:VTIMEZONE
TZID:America/New_York
BEGIN:DAYLIGHT
TZOFFSETFROM:-0500
TZOFFSETTO:-0400
TZNAME:EDT
DTSTART:20240310T070000
END:DAYLIGHT
BEGIN:STANDARD
TZOFFSETFROM:-0400
TZOFFSETTO:-0500
TZNAME:EST
DTSTART:20241103T060000
END:STANDARD
BEGIN:DAYLIGHT
TZOFFSETFROM:-0500
TZOFFSETTO:-0400
TZNAME:EDT
DTSTART:20250309T070000
END:DAYLIGHT
BEGIN:STANDARD
TZOFFSETFROM:-0400
TZOFFSETTO:-0500
TZNAME:EST
DTSTART:20251102T060000
END:STANDARD
BEGIN:DAYLIGHT
TZOFFSETFROM:-0500
TZOFFSETTO:-0400
TZNAME:EDT
DTSTART:20260308T070000
END:DAYLIGHT
BEGIN:STANDARD
TZOFFSETFROM:-0400
TZOFFSETTO:-0500
TZNAME:EST
DTSTART:20261101T060000
END:STANDARD
END:VTIMEZONE
BEGIN:VEVENT
DTSTART;TZID=America/New_York:20250614T140000
DTEND;TZID=America/New_York:20250614T150000
DTSTAMP:20260423T051107
CREATED:20250531T013219Z
LAST-MODIFIED:20250531T013219Z
UID:10007066-1749909600-1749913200@eastsidekids.org
SUMMARY:The Rainbow Beard Show – Dress Up! @ Detroit Institute of Arts
DESCRIPTION:Featuring puppets\, games\, special guests\, stories\, drawings\, music\, and dance parties\, The Rainbow Beard Show celebrates curiosity\, play\, and shared human experiences. Join host Ricky Rainbow Beard and their friends as they explore the fun of dressing up! What does it mean to dress up? When do you do it? Why? \nThis participatory live theater performance is inspired by classic children’s programming like Mister Rogers’ Neighborhood and Sesame Street\, and is designed for kids ages 4–8 (and their grownups). \nFor families of all ages. \nPride Themed docent-led guided gallery tours will be offered one hour prior to event start time\, meeting at the DIA Woodward lobby entrance. The tours will be approximately 45-minutes in length. \nWeekend Family Programs at the DIA are generously presented by the MSUFCU Desk Drawer Foundation. \nImage Source
URL:https://eastsidekids.org/event/the-rainbow-beard-show-dress-up-detroit-institute-of-arts/
LOCATION:Detroit Institute of Arts\, 5200 Woodward Avenue\, Detroit\, Michigan\, 48202
CATEGORIES:Arts & Culture
ATTACH;FMTTYPE=image/jpeg:https://eastsidekids.org/wp-content/uploads/2025/05/The-Rainbow-Beard-Show-–-Dress-Up-@-Detroit-Institute-of-Arts-e1748655103835.jpg
END:VEVENT
BEGIN:VEVENT
DTSTART;TZID=America/New_York:20250725T150000
DTEND;TZID=America/New_York:20250725T160000
DTSTAMP:20260423T051107
CREATED:20250624T182029Z
LAST-MODIFIED:20250624T182029Z
UID:10007314-1753455600-1753459200@eastsidekids.org
SUMMARY:Marionette Magic: The Wizard of Oz @ Center Line Public Library
DESCRIPTION:Lions and Tigers and Puppets\, oh my! In this classic heart-warming tale\, beautifully adapted for marionettes by Martin Stevens and Dan Raynor\, children of all ages will watch with bated breath as a Kansas cyclone whisks Dorothy off to Oz where she befriends the Scarecrow\, who wants brains\, the Tin Woodman\, who wants a heart\, and the Cowardly Lion\, who wants courage. Together they set off on a journey to find the mysterious Wizard of Oz while evading the delightfully silly Wicked Witch of the West. World leaders in the puppetry arts for over 80 years\, Stevens Puppets bring this tale to life with artfully hand-carved wooden marionettes and a musical score you are sure to be humming all the way home. Don’t miss The Wizard of Oz! \n\n\n\nImage Source
URL:https://eastsidekids.org/event/marionette-magic-the-wizard-of-oz-center-line-public-library/
LOCATION:Center Line Public Library\, 7345 Weingartz Street\, Center Line\, Michigan\, 48015
CATEGORIES:Indoor Play
ATTACH;FMTTYPE=image/jpeg:https://eastsidekids.org/wp-content/uploads/2025/06/marionettemagicthewizardofoz-e1750789174446.jpg
END:VEVENT
BEGIN:VEVENT
DTSTART;TZID=America/New_York:20250726T110000
DTEND;TZID=America/New_York:20250726T160000
DTSTAMP:20260423T051107
CREATED:20250717T015737Z
LAST-MODIFIED:20250717T015737Z
UID:10007961-1753527600-1753545600@eastsidekids.org
SUMMARY:Block Party @ Arts & Scraps
DESCRIPTION:Arts & Scraps is back again this summer with our Eastside Block Parties! Our first event is on Saturday July 26th and its gonna be a big party! We are hosting Puppet Karaoke inside our community classroom! Parents\, this is your chance to come and sing karaoke and impress your kids! Or plan out your duet where your kid sings and you work the puppet! Endless fun songs!But wait theres so much more!Outside on our patio Breezeomatic will be providing beats all day\, with Motor City Dance Academy showing us how to move. And we will have Tacos Hernandez Food Truck there serving up free tacos for the community until we run out. The party is all day 11am-4pm and our store will be open. This event is free and grant funded for the community. Come out! \nWe are so excited for this family fun party! \nImage Source
URL:https://eastsidekids.org/event/block-party-arts-scraps/
LOCATION:Arts & Scraps\, 16135 Harper Ave\, Detroit\, MI\, 48224
CATEGORIES:Special Events
ATTACH;FMTTYPE=image/png:https://eastsidekids.org/wp-content/uploads/2025/07/artsandscrapsblockparty.png
END:VEVENT
BEGIN:VEVENT
DTSTART;TZID=America/New_York:20250830T110000
DTEND;TZID=America/New_York:20250830T160000
DTSTAMP:20260423T051107
CREATED:20250829T150556Z
LAST-MODIFIED:20250829T150556Z
UID:10008946-1756551600-1756569600@eastsidekids.org
SUMMARY:Arts & Scraps Block Party @ Arts & Scraps
DESCRIPTION:Arts & Scraps is back again this summer with our Eastside Block Parties! Our next event is on Saturday August 30th and its gonna be a big party! We are hosting Puppet Karaoke inside our community classroom! Parents\, this is your chance to come and sing karaoke and impress your kids! Or plan out your duet where your kid sings and you work the puppet! Endless fun songs!But wait theres so much more!Outside on our patio Breezeomatic will be providing beats all day\, with Motor City Street Dance Academy showing us how to move. And we will have Tacos Hernandez Food Truck there serving up free tacos for the community until we run out. The party is all day 11am-4pm and our store will be open. \nThis event is free and grant funded for the community. Come out! We are so excited for this family fun party! \nImage Source
URL:https://eastsidekids.org/event/arts-scraps-block-party-arts-scraps/
LOCATION:Arts & Scraps\, 16135 Harper Ave\, Detroit\, MI\, 48224
CATEGORIES:Arts & Crafts
ATTACH;FMTTYPE=image/jpeg:https://eastsidekids.org/wp-content/uploads/2025/08/artsandscrapsblockpartyaugust2025-e1756479918272.jpg
END:VEVENT
BEGIN:VEVENT
DTSTART;TZID=America/New_York:20250926T180000
DTEND;TZID=America/New_York:20250926T203000
DTSTAMP:20260423T051107
CREATED:20250831T140406Z
LAST-MODIFIED:20250831T140406Z
UID:10008976-1758909600-1758918600@eastsidekids.org
SUMMARY:Drop-In Workshop: Great Lakes Wildlife Puppets @ Detroit Institute of Arts
DESCRIPTION:Learn about the creatures that inhabit our Great Lakes region\, from fish to frogs\, and create a colorful puppet to take home. \n\n\n\n\n\n\n\n\n\n\n\n \n\n\n\n\n\n\nImage Source
URL:https://eastsidekids.org/event/drop-in-workshop-great-lakes-wildlife-puppets-detroit-institute-of-arts/2025-09-26/
LOCATION:Detroit Institute of Arts\, 5200 Woodward Avenue\, Detroit\, Michigan\, 48202
CATEGORIES:Arts & Crafts
ATTACH;FMTTYPE=image/jpeg:https://eastsidekids.org/wp-content/uploads/2025/08/Drop-In-Workshop-Great-Lakes-Wildlife-Puppets-@-Detroit-Institute-of-Arts-e1756649030587.jpg
END:VEVENT
BEGIN:VEVENT
DTSTART;TZID=America/New_York:20250927T110000
DTEND;TZID=America/New_York:20250927T160000
DTSTAMP:20260423T051107
CREATED:20250916T175707Z
LAST-MODIFIED:20250916T180115Z
UID:10009915-1758970800-1758988800@eastsidekids.org
SUMMARY:Block Party @ Arts & Scraps
DESCRIPTION:This is it folks! Our last Block Party of the year is at the end of the month! Come out to our community store on September 27th from 11am-4pm and party with us. \nWe will have kids creative learning projects from Arts & Scraps outside all day with @breezeomatic laying beats and @tacoshernandezfoodtruck slinging free tacos until we run out. Dont miss @motorcitysda kicking it with us from 1pm-2pm showing us all how to get our street dance on. And last but not least our classroom will be turned into a @puppetkaraokedetroit theater from 12pm-4pm! Come out and sing the songs you loved as a kid or the songs your kids love! Have a child who loves karaoke and never gets a chance to sing?! Have them sing and you can perform the puppets! Or just come out and watch. \nWe have been having an amazing summer hanging out with y’all and cant wait to finish it off with a bang! \nImage Source
URL:https://eastsidekids.org/event/17535/
LOCATION:Arts & Scraps\, 16135 Harper Ave\, Detroit\, MI\, 48224
CATEGORIES:Fairs & Festivals
ATTACH;FMTTYPE=image/jpeg:https://eastsidekids.org/wp-content/uploads/2025/09/artsandscrapsblockpartyseptember-e1758045387103.jpg
END:VEVENT
BEGIN:VEVENT
DTSTART;TZID=America/New_York:20250927T120000
DTEND;TZID=America/New_York:20250927T160000
DTSTAMP:20260423T051107
CREATED:20250831T140406Z
LAST-MODIFIED:20250831T140406Z
UID:10008977-1758974400-1758988800@eastsidekids.org
SUMMARY:Drop-In Workshop: Great Lakes Wildlife Puppets @ Detroit Institute of Arts
DESCRIPTION:Learn about the creatures that inhabit our Great Lakes region\, from fish to frogs\, and create a colorful puppet to take home. \n\n\n\n\n\n\n\n\n\n\n\n \n\n\n\n\n\n\nImage Source
URL:https://eastsidekids.org/event/drop-in-workshop-great-lakes-wildlife-puppets-detroit-institute-of-arts/2025-09-27/
LOCATION:Detroit Institute of Arts\, 5200 Woodward Avenue\, Detroit\, Michigan\, 48202
CATEGORIES:Arts & Crafts
ATTACH;FMTTYPE=image/jpeg:https://eastsidekids.org/wp-content/uploads/2025/08/Drop-In-Workshop-Great-Lakes-Wildlife-Puppets-@-Detroit-Institute-of-Arts-e1756649030587.jpg
END:VEVENT
BEGIN:VEVENT
DTSTART;TZID=America/New_York:20250928T120000
DTEND;TZID=America/New_York:20250928T160000
DTSTAMP:20260423T051107
CREATED:20250831T140406Z
LAST-MODIFIED:20250831T140406Z
UID:10008978-1759060800-1759075200@eastsidekids.org
SUMMARY:Drop-In Workshop: Great Lakes Wildlife Puppets @ Detroit Institute of Arts
DESCRIPTION:Learn about the creatures that inhabit our Great Lakes region\, from fish to frogs\, and create a colorful puppet to take home. \n\n\n\n\n\n\n\n\n\n\n\n \n\n\n\n\n\n\nImage Source
URL:https://eastsidekids.org/event/drop-in-workshop-great-lakes-wildlife-puppets-detroit-institute-of-arts/2025-09-28/
LOCATION:Detroit Institute of Arts\, 5200 Woodward Avenue\, Detroit\, Michigan\, 48202
CATEGORIES:Arts & Crafts
ATTACH;FMTTYPE=image/jpeg:https://eastsidekids.org/wp-content/uploads/2025/08/Drop-In-Workshop-Great-Lakes-Wildlife-Puppets-@-Detroit-Institute-of-Arts-e1756649030587.jpg
END:VEVENT
END:VCALENDAR